-0.002563538
0.122195335
0.122195335
0.002563538
614569.6791
4659294.017
