4.97868E-05
0.122222212
0.122222212
-4.97868E-05
614869.6487
4659368.687
