-0.008011132
0.121959392
0.121959392
0.008011132
614878.3306
4658721.685
