-0.002761089
0.122191031
0.122191031
0.002761089
614873.0035
4658358.048
