-0.004593576
0.122135869
0.122135869
0.004593576
614873.4418
4658048.33
