0.002616254
0.122194217
0.122194217
-0.002616254
614938.4044
4656715.639
