-0.00324983
0.122179009
0.122179009
0.00324983
614937.9156
4656061.877
