-0.001416848
0.122214009
0.122214009
0.001416848
614929.9763
4655160.506
