4.97868E-05
0.122222212
0.122222212
-4.97868E-05
614926.2237
4654917.359
