-0.001905692
0.122207364
0.122207364
0.001905692
615355.9417
4659703.266
