-0.003372008
0.122175698
0.122175698
0.003372008
615318.992
4659185.165
