-0.001416848
0.122214009
0.122214009
0.001416848
615328.6023
4658887.939
