-0.001294633
0.122215365
0.122215365
0.001294633
615336.8213
4657127.32
