-0.004471437
0.122140402
0.122140402
0.004471437
615396.7081
4656693.947
