0.00114977
0.122216814
0.122216814
-0.00114977
615366.564
4655511.67
