-0.001416848
0.122214009
0.122214009
0.001416848
615707.8513
4659493.491
