4.97868E-05
0.122222212
0.122222212
-4.97868E-05
615690.2577
4659392.909
