-0.001905692
0.122207364
0.122207364
0.001905692
615689.8607
4658617.079
