-0.004593576
0.122135869
0.122135869
0.004593576
615684.0158
4657879.122
