-0.003005466
0.122185264
0.122185264
0.003005466
615755.7399
4656212.358
