-0.004959962
0.122121539
0.122121539
0.004959962
615740.7317
4656044.54
