-0.000927982
0.122218699
0.122218699
0.000927982
615840.3873
4655050.044
