-0.00312765
0.122182197
0.122182197
0.00312765
615866.2186
4654882.241
