-0.006944499
0.122024774
0.122024774
0.006944499
615994.2716
4658840.149
