-0.007556802
0.121988386
0.121988386
0.007556802
616116.6658
4657801.825
