-0.003173532
0.122181014
0.122181014
0.003173532
616126.9882
4656776.676
