-0.004591577
0.122135945
0.122135945
0.004591577
616171.3969
4656164.382
