0.001259956
0.122215728
0.122215728
-0.001259956
616158.909
4655820.764
