0.000793634
0.122219645
0.122219645
-0.000793634
616148.1125
4655640.334
