-0.011787419
0.12165249
0.12165249
0.011787419
616465.3506
4657993.802
