0.121826705
-0.009824734
-0.009824734
-0.121826705
613557.6643
4660015.08
