0.122215859
-0.001247101
-0.001247101
-0.122215859
613740.3125
4660007.735
