0.122127112
-0.004820807
-0.004820807
-0.122127112
614333.1243
4659978.381
