0.122024418
-0.006950758
-0.006950758
-0.122024418
614569.8213
4659951.585
