0.122158119
0.003957961
0.003957961
-0.122158119
616321.9676
4658971.042
