0.122216577
-0.001174662
-0.001174662
-0.122216577
613439.3904
4658954.579
