0.122217921
0.001025308
0.001025308
-0.122217921
613153.22
4658953.869
