0.122144349
0.004362298
0.004362298
-0.122144349
612493.5813
4657565.847
