0.121978717
0.007711298
0.007711298
-0.121978717
612972.7452
4657558.438
