0.122220447
0.00065865
0.00065865
-0.122220447
615380.2095
4657660.313
