0.122220447
0.00065865
0.00065865
-0.122220447
614989.5415
4657644.396
