0.122184045
0.003054601
0.003054601
-0.122184045
614110.5088
4656433.96
