0.122187593
0.002909229
0.002909229
-0.122187593
614568.4149
4656487.626
