0.122174211
0.003425445
0.003425445
-0.122174211
615066.6244
4656523.844
