0.122048457
0.006515043
0.006515043
-0.122048457
616017.4675
4656574.463
