0.12220467
0.002071266
0.002071266
-0.12220467
613026.2751
4655113.877
