0.122222222
4.70176E-11
4.70176E-11
-0.122222222
613931.474
4655141.821
