0.121164047
0.016048218
0.016048218
-0.121164047
614255.6576
4655210.144
