0.120478896
0.020569568
0.020569568
-0.120478896
614459.1968
4655221.927
