0.120482673
0.020547432
0.020547432
-0.120482673
614696.6944
4655262.781
